BEGIN:VCALENDAR
VERSION:2.0
PRODID:-//85.13.136.198//NONSGML kigkonsult.se iCalcreator 2.20//
CALSCALE:GREGORIAN
METHOD:PUBLISH
X-WR-TIMEZONE:Europe/Berlin
BEGIN:VEVENT
UID:event52@Schützenkreis 2100 - Bochum, Wattenscheid, Hattingen
DTSTAMP:20260421T111424Z
CATEGORIES:Pokalschießen
DESCRIPTION:Richard Heinze Pokaltunier \nKategorie: Pokalschießen\nICS-Link
 : http://www.schuetzenkreis2100.de/index.php?option=com_jem&view=event&id=
 52:richard-heinze-pokaltunier\n
DTSTART;VALUE=DATE:20190923
DTEND;VALUE=DATE:20191004
LOCATION:Schießstand Hiltrop/Herne-Holthausen\,Holthauserstrasse 288 \,4627
  Herne
SUMMARY:Richard Heinze Pokaltunier 
URL:http://www.schuetzenkreis2100.de/index.php?option=com_jem&view=event&id
 =52:richard-heinze-pokaltunier
END:VEVENT
END:VCALENDAR
